Workbook

Sheet Puntaje Final
A2: CONFRATERNIDAD DEPORTIVA SSCC 2016
A3: PUNTAJE FINAL
B5: ATLETISMO DAMAS | C5: ATLETISMO VARONES | D5: BASQUETBOL | E5: FUTBOL DAMAS | F5: FÚTBOL VARONES | G5: GIMNASIA | H5: VOLEIBOL DAMAS | I5: VOLEIBOL VARONES | J5: TOTAL | K5: LUGAR
A6: SSCC VIÑA DEL MAR | B6: ='Atletismo D-V'!Q17 -> 0 | C6: ='Atletismo D-V'!Q9 -> 0 | D6: =Basquetbol!M7 -> 0 | E6: ='Fútbol Damas'!N7 -> 0 | F6: ='Fútbol Varones'!N7 -> 0 | G6: =Gimnasia!H13 -> 0 | H6: ='Voleibol Damas'!P7 -> 0 | I6: ='Voleibol Varones'!P7 -> 0 | J6: =SUM(B6:I6) -> 0
A7: SSCC CONCEPCIÓN | B7: ='Atletismo D-V'!Q18 -> 0 | C7: ='Atletismo D-V'!Q10 -> 0 | D7: =Basquetbol!M8 -> 0 | E7: ='Fútbol Damas'!N8 -> 0 | F7: ='Fútbol Varones'!N8 -> 0 | G7: =Gimnasia!H14 -> 0 | H7: ='Voleibol Damas'!P8 -> 0 | I7: ='Voleibol Varones'!P8 -> 0 | J7: =SUM(B7:I7) -> 0
A8: SSCC MANQUEHUE | B8: ='Atletismo D-V'!Q19 -> 0 | C8: ='Atletismo D-V'!Q11 -> 0 | D8: =Basquetbol!M9 -> 0 | E8: ='Fútbol Damas'!N9 -> 0 | F8: ='Fútbol Varones'!N9 -> 0 | G8: =Gimnasia!H15 -> 0 | H8: ='Voleibol Damas'!P9 -> 0 | I8: ='Voleibol Varones'!P9 -> 0 | J8: =SUM(B8:I8) -> 0
A11: 1º Lugar: 12 Puntos
A12: 2º Lugar: 10 Puntos
A13: 3º Lugar: 8 Puntos
A14: 4º Lugar: 7 Puntos

Sheet Basquetbol
A2: CONFRATERNIDAD DEPORTIVA SSCC 2016
A3: BASQUETBOL
B5: INSTITUCION TERESIANA | C5: VIÑA DEL MAR | D5: CONCEPCIÓN | E5: MANQUEHUE | F5: Partidos Ganados | G5: Partidos Perdidos | H5: Puntos a Favor | I5: Puntos en Contra | J5: Diferencia de Puntos | K5: PUNTAJE | L5: LUGAR | M5: PUNTAJE POR LUGAR
A6: INST. TERESIANA | C6: 0/20 | J6: =H6-I6 -> 0
A7: VIÑA DEL MAR | B7: 20/0 | J7: =H7-I7 -> 0
A8: CONCEPCIÓN | E8: 51/59 | J8: =H8-I8 -> 0
A9: MANQUEHUE | D9: 59/51 | J9: =H9-I9 -> 0
A11: 1º Lugar: 12 Puntos
A12: 2º Lugar: 10 Puntos
A13: 3º Lugar: 8 Puntos
A14: 4º Lugar: 7 Puntos

Sheet Fútbol Varones
A2: CONFRATERNIDAD DEPORTIVA SSCC 2016
A3: FUTBOL VARONES
B5: SAN BENITO | C5: VIÑA DEL MAR | D5: CONCEPCIÓN | E5: MANQUEHUE | F5: Partidos Ganados | G5: Partidos Empatados | H5: Partidos Perdidos | I5: Goles a Favor | J5: Goles en Contra | K5: Diferencia de Goles | L5: PUNTAJE | M5: LUGAR | N5: PUNTAJE POR LUGAR
A6: SAN BENITO | C6: 1-2 | K6: =I6-J6 -> 0
A7: VIÑA DEL MAR | B7: 2-1 | K7: =I7-J7 -> 0
A8: CONCEPCIÓN | E8: 0-1 | K8: =I8-J8 -> 0
A9: MANQUEHUE | D9: 1-0 | K9: =I9-J9 -> 0
A11: 1º Lugar: 12 Puntos
A12: 2º Lugar: 10 Puntos
A13: 3º Lugar: 8 Puntos
A14: 4º Lugar: 7 Puntos

Sheet Fútbol Damas
A2: CONFRATERNIDAD DEPORTIVA SSCC 2016
A3: FUTBOL DAMAS
B5: SAN DAMIAN | C5: VIÑA DEL MAR | D5: CONCEPCIÓN | E5: MANQUEHUE | F5: Partidos Ganados | G5: Partidos Empatados | H5: Partidos Perdidos | I5: Goles a Favor | J5: Goles en Contra | K5: Diferencia de Goles | L5: PUNTAJE | M5: LUGAR | N5: PUNTAJE POR LUGAR
A6: SAN DAMIAN | E6: 0/11 | K6: 0
A7: VIÑA DEL MAR | D7: 4/0 | K7: 0
A8: CONCEPCIÓN | C8: 0/4 | K8: 0
A9: MANQUEHUE | B9: 11/0 | K9: 0
A11: 1º Lugar: 12 Puntos
A12: 2º Lugar: 10 Puntos
A13: 3º Lugar: 8 Puntos
A14: 4º Lugar: 7 Puntos

Sheet Gimnasia
A2: CONFRATERNIDAD DEPORTIVA SS.CC. 2016
A3: GIMNASIA
A10: DAMAS
B11: SUELO | C11: BARRA | D11: VIGA | E11: SALTO | F11: TOTAL | G11: LUGAR | H11: PUNTAJE
A12: SAN BENITO | F12: =SUM(B12:E12) -> 0
A13: VIÑA DEL MAR | F13: =SUM(B13:E13) -> 0
A14: CONCEPCIÓN | F14: =SUM(B14:E14) -> 0
A15: MANQUEHUE | F15: =SUM(B15:E15) -> 0
G19: 1º Lugar: 12 Puntos
G20: 2º Lugar: 10 Puntos
G21: 3º Lugar: 8 Puntos
G22: 4º Lugar: 7 Puntos

Sheet Voleibol Varones
A2: CONFRATERNIDAD DEPORTIVA SSCC 2016
A3: VOLEIBOL VARONES
B5: SAN BENITO | C5: VIÑA DEL MAR | D5: CONCEPCION | E5: MANQUEHUE | F5: Partidos Ganados | G5: Partidos Perdidos | H5: Sets a Favor | I5: Sets en Contra | J5: Diferencia de Sets | K5: Puntos a Favor | L5: Puntos en Contra | M5: Diferencia de Puntos | N5: PUNTAJE | O5: LUGAR | P5: PUNTAJE POR LUGAR
A6: SAN BENITO | C6: 15-25/20-25 | M6: =K6-K6 -> 0
A7: VIÑA DEL MAR | B7: 25-15/25-20 | M7: =K7-K7 -> 0
A8: CONCEPCIÓN | E8: 12/25/12-25 | M8: =K8-K8 -> 0
A9: MANQUEHUE | D9: 25-12/25-12 | M9: =K9-K9 -> 0
A11: 1º Lugar: 12 Puntos
A12: 2º Lugar: 10 Puntos
A13: 3º Lugar: 8 Puntos
A14: 4º Lugar: 7 Puntos

Sheet Voleibol Damas
A2: CONFRATERNIDAD DEPORTIVA SSCC 2016
A3: VOLEIBOL DAMAS
B5: SAN BENITO | C5: VIÑA DEL MAR | D5: CONCEPCION | E5: MANQUEHUE | F5: Partidos Ganados | G5: Partidos Perdidos | H5: Sets a Favor | I5: Sets en Contra | J5: Diferencia de Sets | K5: Puntos a Favor | L5: Puntos en Contra | M5: Diferencia de Puntos | N5: PUNTAJE | O5: LUGAR | P5: PUNTAJE POR LUGAR
A6: SAN BENITO | D6: 25-15/25-19 | M6: =(K6-L6) -> 0
A7: VIÑA DEL MAR | E7: 6-25/12/25 | M7: =(K7-L7) -> 0
A8: CONCEPCIÓN | B8: 15-25/19-25 | M8: =(K8-L8) -> 0
A9: MANQUEHUE | C9: 25-6/25-12 | M9: =(K9-L9) -> 0
A11: 1º Lugar: 12 Puntos
A12: 2º Lugar: 10 Puntos
A13: 3º Lugar: 8 Puntos
A14: 4º Lugar: 7 Puntos

Sheet Atletismo D-V
A2: CONFRATERNIDAD DEPORTIVA SS.CC. 2016
A3: ATLETISMO
A5: VARONES
B6: 100 | C6: 300 | D6: 110 m. | E6: 300 m. | F6: 1000 | G6: 3000 | H6: Salto | I6: Salto | J6: Lanz. | K6: Lanz. | L6: Lanz. | M6: Posta | N6: Posta
B7: metros | C7: metros | D7: vallas | E7: vallas | F7: metros | G7: metros | H7: Largo | I7: Alto | J7: Bala | K7: Jabalina | L7: Disco | M7: 4 x 100 | N7: 5 x 300 | O7: TOTAL | P7: LUGAR | Q7: PUNTAJE
A8: SAN BENITO | B8: 10 | E8: 0 | F8: 12 | I8: 0 | J8: 0 | M8: 18 | O8: =SUM(B8:N8) -> 40
A9: VIÑA DEL MAR | B9: 9 | E9: 15 | F9: 2 | I9: 9 | J9: 9 | M9: 14 | O9: =SUM(B9:N9) -> 58
A10: CONCEPCIÓN | B10: 11 | E10: 8 | F10: 13 | I10: 18 | J10: 9 | M10: 10 | O10: =SUM(B10:N10) -> 69
A11: MANQUEHUE | B11: 12 | E11: 20 | F11: 16 | I11: 15 | J11: 25 | M11: 24 | O11: =SUM(B11:N11) -> 112
A13: DAMAS
B14: 100 | C14: 300 | D14: 80 m. | F14: 1000 | H14: Salto | I14: Salto | J14: Lanz. | K14: Lanz. | M14: Posta | N14: Posta
B15: metros | C15: metros | D15: vallas | F15: metros | H15: Largo | I15: Alto | J15: Bala | K15: Jabalina | M15: 4 x 100 | N15: 5 x 300 | O15: TOTAL | P15: LUGAR | Q15: PUNTAJE
A16: SAN BENITO | B16: 21 | F16: 12 | H16: 14 | K16: 5 | M16: 24 | O16: =SUM(B16:N16) -> 76
A17: VIÑA DEL MAR | B17: 12 | F17: 3 | H17: 9 | K17: 8 | M17: 14 | O17: =SUM(B17:N17) -> 46
A18: CONCEPCIÓN | B18: 6 | F18: 7 | H18: 12 | K18: 2 | M18: 10 | O18: =SUM(B18:N18) -> 37
A19: MANQUEHUE | B19: 4 | F19: 21 | H19: 8 | K19: 28 | M19: 18 | O19: =SUM(B19:N19) -> 79
A21: 1º Lugar | B21: 12 | P21: 1º Lugar: 12 Puntos
A22: 2º Lugar | B22: 9 | P22: 2º Lugar: 10 Puntos
A23: 3º Lugar | B23: 7 | P23: 3º Lugar: 8 Puntos
A24: 4º Lugar | B24: 5 | P24: 4º Lugar: 7 Puntos
A25: 5º Lugar | B25: 4
A26: 6º Lugar | B26: 3
A27: 7º Lugar | B27: 2
A28: 8º Lugar | B28: 1

Sheet Tabla Records
A1: TABLA DE RECORDS CONFRATERNIDAD
A2: Actualizada el año 2016
A3: VARONES | E3: PRUEBAS | F3: DAMAS
A4: 1993 | B4: 10.7 (m) | C4: VIÑA DEL MAR | D4: JUAN PABLO FAÚNDEZ | E4: 100 M. PLANOS | F4: ANNELIESE GROSSER | G4: CONCEPCIÓN | H4: 12.29 (e) | I4: 2009
A5: 2005 | B5: 11.24 | C5: CONCEPCIÓN | D5: TOMÁS GÓMEZ
A6: 1993 | B6: 35.1 (m) | C6: VIÑA DEL MAR | D6: JUAN PABLO FAÚNDEZ | E6: 300 M. PLANOS | F6: ANNELIESE GROSSER | G6: CONCEPCIÓN | H6: 40.91(e) | I6: 2009
A7: 2005 | B7: 35.22 (e ) | C7: CONCEPCIÓN | D7: TOMÁS GÓMEZ
A8: 2007 | B8: 2.38.20 (e) | C8: CONCEPCIÓN | D8: GÜNTER GROSSER | E8: 1.000 M. PLANOS | F8: CLAUDIA JALIL | G8: MANQUEHUE | H8: 3'10"27 | I8: 2016
A9: 2005 | B9: 9.21.70 (e) | C9: MANQUEHUE | D9: MANUEL FREY | E9: 3000 M. PLANOS
E10: 80 M. VALLAS (0,76) | F10: MACARENA FUICA | G10: MANQUEHUE | H10: 12.14 (e ) | I10: 2009
A11: 1993 | B11: 38.9 | C11: MANQUEHUE | D11: FELIPE SABBAGH | E11: 300 M. VALLAS (0,84)
A12: 2011 | B12: 38.91 (e ) | C12: CONCEPCIÓN | D12: MAURICIO BARRIOS
A13: 1997 | B13: 14.3 | C13: MANQUEHUE | D13: VICENTE RIVERA | E13: 110 M. VALLAS (0,91)
A14: 2011 | B14: 7.07 | C14: CONCEPCIÓN | D14: MAURICIO BARRIOS | E14: SALTO LARGO | F14: NORKA MORETIC | G14: MANQUEHUE | H14: 5.42 | I14: 2014
A15: 2009 | B15: 1.95 | C15: SAN BENITO | D15: CRISTOBAL HURTADO | E15: SALTO ALTO | F15: ANTONIA CRESTANI | G15: MANQUEHUE | H15: 1.55 | I15: 2016
A16: 2005 | B16: 16.65 | C16: MANQUEHUE | D16: MAXIMILIANO ALONSO | E16: L. BALA (4 KG.) | F16: PAZ ETCHEBERRIGARAY | G16: MANQUEHUE | H16: 10.09 | I16: 2016
A17: 2005 | B17: 55.85 | C17: MANQUEHUE | D17: MAXIMILIANO ALONSO | E17: L. DISCO (1,5 KG.)
A18: 2005 | B18: 57.53 | C18: MANQUEHUE | D18: FRANCOIS POUZET | E18: L. JABALINA (600 g.) | F18: VALENTINA RITCHIE | G18: MANQUEHUE | H18: 33.22 | I18: 2007
A19: 1985 | B19: 43.6 | C19: MANQUEHUE | D19: FELIPE BARROS | E19: POSTA 4 X 100 MTS. | F19: VICTORIA FERNANDEZ | G19: MANQUEHUE | H19: 50.94 | I19: 2009
D20: JOSÉ HURTADO | F20: MACARENA PALMERO
D21: GONZALO JARA | F21: MACARENA FUICA
D22: CRISTIÁN COURBIS | F22: TRINIDAD SOTOMAYOR
A23: 1993 | B23: 3.07 | C23: MANQUEHUE | D23: CRISTIAN AGUAYO | E23: POSTA 5 X 300 MTS. | F23: CLAUDIA JALIL | G23: MANQUEHUE | H23: 3'41"04 | I23: 2016
D24: FELIPE SABBAGH | F24: MARIA JESUS VERDUGO
D25: NICOLÁS LUISSETI | F25: SAMANTHA HUGHES
D26: CRISTOBAL PRIETO | F26: TERESITA VALDES
D27: ENRIQUE ZENTENO | F27: VIOLETA ARNAIZ
